BEGIN:VCALENDAR
VERSION:2.0
PRODID:-//ROFILENA - ECPv5.3.2//NONSGML v1.0//EN
CALSCALE:GREGORIAN
METHOD:PUBLISH
X-WR-CALNAME:ROFILENA
X-ORIGINAL-URL:https://new.rofilena.md
X-WR-CALDESC:Events for ROFILENA
BEGIN:VTIMEZONE
TZID:Europe/Helsinki
BEGIN:DAYLIGHT
TZOFFSETFROM:+0200
TZOFFSETTO:+0300
TZNAME:EEST
DTSTART:20230326T010000
END:DAYLIGHT
BEGIN:STANDARD
TZOFFSETFROM:+0300
TZOFFSETTO:+0200
TZNAME:EET
DTSTART:20231029T010000
END:STANDARD
END:VTIMEZONE
BEGIN:VEVENT
DTSTART;TZID=Europe/Helsinki:20230301T100000
DTEND;TZID=Europe/Helsinki:20230301T160000
DTSTAMP:20260423T123251
CREATED:20230221T124841Z
LAST-MODIFIED:20230221T124841Z
UID:14761-1677664800-1677686400@new.rofilena.md
SUMMARY:STOP CELLULITE
DESCRIPTION:Обзорный семинар о комплексном подходе лечение и предотвращение целлюлита. \nВ ходе семинара будут представлены: \n-Монопрепараты: K-Bromine 20\, Cynalcon\, L-Carnitrans\, Dermastabilon\, Deoxylyse\, DM-Lift\, Silorg 0.5\, Pyrustim\, Silorgamine\, Taurinox \n-Готовые коктейли: RRS HA Celutrix\, RRS HA Strimatrix\, Silisorg\, Silisorg Tensor\, Silisorg HA \nПрактика \nЖелающие могут отработать на моделях техники введения.  * семинар предназначен для специалистов со среднем и высшим медицинским образованием
URL:https://new.rofilena.md/event/stop-cellulite/
LOCATION:Rofilena\, Strada Vissarion Belinski 25\, Chisinau\, Buiucani\, 2008\, Moldova\, Republic of
ATTACH;FMTTYPE=image/png:https://new.rofilena.md/wp-content/uploads/2023/02/image1-1.png
END:VEVENT
END:VCALENDAR