BEGIN:VCALENDAR
VERSION:2.0
PRODID:-//ROFILENA - ECPv5.3.2//NONSGML v1.0//EN
CALSCALE:GREGORIAN
METHOD:PUBLISH
X-WR-CALNAME:ROFILENA
X-ORIGINAL-URL:https://new.rofilena.md
X-WR-CALDESC:Events for ROFILENA
BEGIN:VTIMEZONE
TZID:Europe/Helsinki
BEGIN:DAYLIGHT
TZOFFSETFROM:+0200
TZOFFSETTO:+0300
TZNAME:EEST
DTSTART:20240331T010000
END:DAYLIGHT
BEGIN:STANDARD
TZOFFSETFROM:+0300
TZOFFSETTO:+0200
TZNAME:EET
DTSTART:20241027T010000
END:STANDARD
END:VTIMEZONE
BEGIN:VEVENT
DTSTART;TZID=Europe/Helsinki:20241001T100000
DTEND;TZID=Europe/Helsinki:20241001T160000
DTSTAMP:20260425T053708
CREATED:20240509T080938Z
LAST-MODIFIED:20240902T114147Z
UID:15072-1727776800-1727798400@new.rofilena.md
SUMMARY:RRS HA LONG LASTING ADVANCE
DESCRIPTION:НОВЫЕ ЗОНЫ ПРИМЕНЕНИЯ. II Ступень \nТеория: \n\nРеологические особенности препарата\nОсмолиты – необходимые элементы для восстановления качества и молодости кожи\nТехнология CO-DELIVERY\nПоказания/Противопоказания\nСочетание с другими процедурами\n\nПрактика: \n\nКлассическая техника 7 вколов\nКанюльная техника введения препарата в зоне лица\nЛатеральный лифтинг шеи\nОмоложение зоны декольте\, кистей рук\nТехника введения препарата в пероральной зоне
URL:https://new.rofilena.md/event/rrs-ha-long-lasting-advance/
LOCATION:Rofilena\, Strada Vissarion Belinski 25\, Chisinau\, Buiucani\, 2008\, Moldova\, Republic of
ATTACH;FMTTYPE=image/png:https://new.rofilena.md/wp-content/uploads/2024/07/image06.png
END:VEVENT
END:VCALENDAR