BEGIN:VCALENDAR
VERSION:2.0
PRODID:-//ROFILENA - ECPv5.3.2//NONSGML v1.0//EN
CALSCALE:GREGORIAN
METHOD:PUBLISH
X-WR-CALNAME:ROFILENA
X-ORIGINAL-URL:https://new.rofilena.md
X-WR-CALDESC:Events for ROFILENA
BEGIN:VTIMEZONE
TZID:Europe/Helsinki
BEGIN:DAYLIGHT
TZOFFSETFROM:+0200
TZOFFSETTO:+0300
TZNAME:EEST
DTSTART:20230326T010000
END:DAYLIGHT
BEGIN:STANDARD
TZOFFSETFROM:+0300
TZOFFSETTO:+0200
TZNAME:EET
DTSTART:20231029T010000
END:STANDARD
END:VTIMEZONE
BEGIN:VEVENT
DTSTART;TZID=Europe/Helsinki:20230404T100000
DTEND;TZID=Europe/Helsinki:20230404T160000
DTSTAMP:20260423T035225
CREATED:20230315T094932Z
LAST-MODIFIED:20230315T094932Z
UID:14810-1680602400-1680624000@new.rofilena.md
SUMMARY:RRS HA LONG LASTING
DESCRIPTION:Теория: \nРеологические особенности препарата\nОсмолиты – необходимые элементы для восстановления качества и молодости кожи\nТехнология CO-DELIVERY\nПоказания/Противопоказания\nСочетание с другими процедурами \nПрактика: \nКлассическая техника 7 вколов\nКанюльная техника введения препарата\nОттаботка зоны шеи
URL:https://new.rofilena.md/event/rrs-ha-long-lasting-3/
LOCATION:Rofilena\, Strada Vissarion Belinski 25\, Chisinau\, Buiucani\, 2008\, Moldova\, Republic of
ATTACH;FMTTYPE=image/png:https://new.rofilena.md/wp-content/uploads/2023/03/rrs-ha-long-lasting.png
END:VEVENT
END:VCALENDAR