BEGIN:VCALENDAR
VERSION:2.0
PRODID:-//ROFILENA - ECPv5.3.2//NONSGML v1.0//EN
CALSCALE:GREGORIAN
METHOD:PUBLISH
X-WR-CALNAME:ROFILENA
X-ORIGINAL-URL:https://new.rofilena.md
X-WR-CALDESC:Events for ROFILENA
BEGIN:VTIMEZONE
TZID:Europe/Helsinki
BEGIN:DAYLIGHT
TZOFFSETFROM:+0200
TZOFFSETTO:+0300
TZNAME:EEST
DTSTART:20220327T010000
END:DAYLIGHT
BEGIN:STANDARD
TZOFFSETFROM:+0300
TZOFFSETTO:+0200
TZNAME:EET
DTSTART:20221030T010000
END:STANDARD
END:VTIMEZONE
BEGIN:VEVENT
DTSTART;TZID=Europe/Helsinki:20221129T100000
DTEND;TZID=Europe/Helsinki:20221129T160000
DTSTAMP:20260424T195427
CREATED:20220916T141049Z
LAST-MODIFIED:20220916T141210Z
UID:14542-1669716000-1669737600@new.rofilena.md
SUMMARY:RRS HA Long Lasting
DESCRIPTION:Теория: \n\nРеологические особенности препарата\nОсмолиты – необходимые элементы для восстановления качества и молодости кожи\nТехнология CO-DELIVERY\nПоказания/Противопоказания\nСочетание с другими процедурами\n\nПрактика: \n\nКлассическая техника 7 вколов\nКанюльная техника введения препарата в зоне лица\nЛатеральный лифтинг шеи\nОмоложение зоны декольте\, кистей рук\nТехника введения препарата в пероральной зоне
URL:https://new.rofilena.md/event/rrs-ha-long-lasting-2/
LOCATION:Rofilena\, Strada Vissarion Belinski 25\, Chisinau\, Buiucani\, 2008\, Moldova\, Republic of
ATTACH;FMTTYPE=image/jpeg:https://new.rofilena.md/wp-content/uploads/2022/09/rrs.jpg
END:VEVENT
END:VCALENDAR