BEGIN:VCALENDAR
VERSION:2.0
PRODID:-//ROFILENA - ECPv5.3.2//NONSGML v1.0//EN
CALSCALE:GREGORIAN
METHOD:PUBLISH
X-WR-CALNAME:ROFILENA
X-ORIGINAL-URL:https://new.rofilena.md
X-WR-CALDESC:Events for ROFILENA
BEGIN:VTIMEZONE
TZID:Europe/Helsinki
BEGIN:DAYLIGHT
TZOFFSETFROM:+0200
TZOFFSETTO:+0300
TZNAME:EEST
DTSTART:20240331T010000
END:DAYLIGHT
BEGIN:STANDARD
TZOFFSETFROM:+0300
TZOFFSETTO:+0200
TZNAME:EET
DTSTART:20241027T010000
END:STANDARD
END:VTIMEZONE
BEGIN:VEVENT
DTSTART;TZID=Europe/Helsinki:20240919T100000
DTEND;TZID=Europe/Helsinki:20240919T160000
DTSTAMP:20260425T012921
CREATED:20240709T132951Z
LAST-MODIFIED:20240902T113924Z
UID:15162-1726740000-1726761600@new.rofilena.md
SUMMARY:RRS HA LONG LASTING - Базовое обучение
DESCRIPTION:Теория:\n\nРеологические особенности препарата\nОсмолиты – необходимые элементы для восстановления качества и молодости кожи\nТехнология CO-DELIVERY\nПоказания/Противопоказания\nСочетание с другими процедурами\n\nПрактика:\n\nКлассическая техника 7 вколов\nКанюльная техника введения препарата\nОтработка зоны шеи и декольте
URL:https://new.rofilena.md/event/rrs-ha-long-lasting-%d0%b1%d0%b0%d0%b7%d0%be%d0%b2%d0%be%d0%b5-%d0%be%d0%b1%d1%83%d1%87%d0%b5%d0%bd%d0%b8%d0%b5/
LOCATION:Rofilena\, Strada Vissarion Belinski 25\, Chisinau\, Buiucani\, 2008\, Moldova\, Republic of
ATTACH;FMTTYPE=image/png:https://new.rofilena.md/wp-content/uploads/2024/07/image05.png
END:VEVENT
END:VCALENDAR