BEGIN:VCALENDAR
VERSION:2.0
PRODID:-//ROFILENA - ECPv5.3.2//NONSGML v1.0//EN
CALSCALE:GREGORIAN
METHOD:PUBLISH
X-WR-CALNAME:ROFILENA
X-ORIGINAL-URL:https://new.rofilena.md
X-WR-CALDESC:Events for ROFILENA
BEGIN:VTIMEZONE
TZID:Europe/Helsinki
BEGIN:DAYLIGHT
TZOFFSETFROM:+0200
TZOFFSETTO:+0300
TZNAME:EEST
DTSTART:20220327T010000
END:DAYLIGHT
BEGIN:STANDARD
TZOFFSETFROM:+0300
TZOFFSETTO:+0200
TZNAME:EET
DTSTART:20221030T010000
END:STANDARD
END:VTIMEZONE
BEGIN:VEVENT
DTSTART;TZID=Europe/Helsinki:20221130T100000
DTEND;TZID=Europe/Helsinki:20221130T150000
DTSTAMP:20260424T183557
CREATED:20221025T061538Z
LAST-MODIFIED:20221025T061538Z
UID:14619-1669802400-1669820400@new.rofilena.md
SUMMARY:Rosease – noua linie marca Anna Lotan Pro
DESCRIPTION:Rosease – noua linie marca Anna Lotan Pro . Terapie topică completă pentru pacienții cu simptome de rozacee. \nLeziunile vasculare sunt o afecțiune des întâlnită și \, implicit \, una dintre cele mai populare cerințe de tratament în rândul femeilor și a bărbaților. \nCe presupune sistema Rosease?\n– Calmarea maximal posibil a roșeții și stoparea procesului inflamator.\n– Nivelarea stratului bazal al pielii\,normalizarea funcției de barieră a pielii și menținerea igienei pielii.\n– Alegerea preparatelor potrivite pentru client în dependență de starea pielii ( pentru tratare sau menținere) \nCursul Rosease este recomandat specialiștilor esteticieni\, pentru a oferi clienților săi soluții eficiente cu rezultate vizibile.\nPartea teoretică oferă descriere minuțioasă a compozițiilor produselor\, indicații și spectru lor de acțiune.\nPartea practică prezintă tratamentele profesioniste marca Anna Lotan Pro .
URL:https://new.rofilena.md/event/rosease-noua-linie-marca-anna-lotan-pro/
LOCATION:Rofilena\, Strada Vissarion Belinski 25\, Chisinau\, Buiucani\, 2008\, Moldova\, Republic of
ATTACH;FMTTYPE=image/jpeg:https://new.rofilena.md/wp-content/uploads/2022/10/anna-lotan-pro-rosease.jpg
END:VEVENT
END:VCALENDAR