BEGIN:VCALENDAR
VERSION:2.0
PRODID:-//ROFILENA - ECPv5.3.2//NONSGML v1.0//EN
CALSCALE:GREGORIAN
METHOD:PUBLISH
X-WR-CALNAME:ROFILENA
X-ORIGINAL-URL:https://new.rofilena.md
X-WR-CALDESC:Events for ROFILENA
BEGIN:VTIMEZONE
TZID:Europe/Helsinki
BEGIN:DAYLIGHT
TZOFFSETFROM:+0200
TZOFFSETTO:+0300
TZNAME:EEST
DTSTART:20230326T010000
END:DAYLIGHT
BEGIN:STANDARD
TZOFFSETFROM:+0300
TZOFFSETTO:+0200
TZNAME:EET
DTSTART:20231029T010000
END:STANDARD
END:VTIMEZONE
BEGIN:VEVENT
DTSTART;TZID=Europe/Helsinki:20230802T100000
DTEND;TZID=Europe/Helsinki:20230802T170000
DTSTAMP:20260422T130157
CREATED:20230731T115356Z
LAST-MODIFIED:20230731T115356Z
UID:14899-1690970400-1690995600@new.rofilena.md
SUMMARY:LOLA - I ступень. Классическая Техника
DESCRIPTION:Теория:\n\nРеологические особенности препарата\nОсмолиты – необходимые элементы для восстановления качества и молодости кожи\nТехнология CO-DELIVERY\nПоказания/Противопоказания\nСочетание с другими процедурами\n\nПрактика:\n\nКлассическая техника 7 вколов\nКанюльная техника введения препарата\nОттаботка зоны шеи
URL:https://new.rofilena.md/event/lola-i-%d1%81%d1%82%d1%83%d0%bf%d0%b5%d0%bd%d1%8c-%d0%ba%d0%bb%d0%b0%d1%81%d1%81%d0%b8%d1%87%d0%b5%d1%81%d0%ba%d0%b0%d1%8f-%d1%82%d0%b5%d1%85%d0%bd%d0%b8%d0%ba%d0%b0/
LOCATION:Rofilena\, Strada Vissarion Belinski 25\, Chisinau\, Buiucani\, 2008\, Moldova\, Republic of
ATTACH;FMTTYPE=image/png:https://new.rofilena.md/wp-content/uploads/2023/07/image00.png
END:VEVENT
END:VCALENDAR