BEGIN:VCALENDAR
VERSION:2.0
PRODID:-//ROFILENA - ECPv5.3.2//NONSGML v1.0//EN
CALSCALE:GREGORIAN
METHOD:PUBLISH
X-WR-CALNAME:ROFILENA
X-ORIGINAL-URL:https://new.rofilena.md
X-WR-CALDESC:Events for ROFILENA
BEGIN:VTIMEZONE
TZID:Europe/Helsinki
BEGIN:DAYLIGHT
TZOFFSETFROM:+0200
TZOFFSETTO:+0300
TZNAME:EEST
DTSTART:20220327T010000
END:DAYLIGHT
BEGIN:STANDARD
TZOFFSETFROM:+0300
TZOFFSETTO:+0200
TZNAME:EET
DTSTART:20221030T010000
END:STANDARD
END:VTIMEZONE
BEGIN:VEVENT
DTSTART;TZID=Europe/Helsinki:20221118T100000
DTEND;TZID=Europe/Helsinki:20221118T160000
DTSTAMP:20260425T000825
CREATED:20221021T124652Z
LAST-MODIFIED:20221021T124652Z
UID:14593-1668765600-1668787200@new.rofilena.md
SUMMARY:DERMACTE BASIC
DESCRIPTION:Derm Acte – gama de produse marca Academie Scrientific de Baute\, eficiența cărora e demonstrată clinic. Texturi fine care se absorb rapid și maxim în piele datorită tehnologiei exclusive – Emulsion Technology [SME]. \nCursul de bază DERMACTE este recomandat specialiștilor esteticieni\, pentru a oferi clienților săi soluții eficiente cu rezultate vizibile. \nPartea teoretică oferă descriere minuțioasă a compozițiilor produselor\, indicații și spectru lor de acțiune. \nPartea practică prezintă tratamentele profesioniste marca DERMACTE inclusiv și peelingurile. \n* La acest curs sunt admise persoanele care au trecut cursul de bază Academie
URL:https://new.rofilena.md/event/dermacte-basic/
LOCATION:Rofilena\, Strada Vissarion Belinski 25\, Chisinau\, Buiucani\, 2008\, Moldova\, Republic of
ATTACH;FMTTYPE=image/jpeg:https://new.rofilena.md/wp-content/uploads/2022/10/dream_acte.jpg
END:VEVENT
END:VCALENDAR