BEGIN:VCALENDAR
VERSION:2.0
PRODID:-//ROFILENA - ECPv5.3.2//NONSGML v1.0//EN
CALSCALE:GREGORIAN
METHOD:PUBLISH
X-WR-CALNAME:ROFILENA
X-ORIGINAL-URL:https://new.rofilena.md
X-WR-CALDESC:Events for ROFILENA
BEGIN:VTIMEZONE
TZID:Europe/Helsinki
BEGIN:DAYLIGHT
TZOFFSETFROM:+0200
TZOFFSETTO:+0300
TZNAME:EEST
DTSTART:20240331T010000
END:DAYLIGHT
BEGIN:STANDARD
TZOFFSETFROM:+0300
TZOFFSETTO:+0200
TZNAME:EET
DTSTART:20241027T010000
END:STANDARD
END:VTIMEZONE
BEGIN:VEVENT
DTSTART;TZID=Europe/Helsinki:20240130T100000
DTEND;TZID=Europe/Helsinki:20240131T160000
DTSTAMP:20260424T003927
CREATED:20231222T071851Z
LAST-MODIFIED:20231222T071851Z
UID:15001-1706608800-1706716800@new.rofilena.md
SUMMARY:Curs de bază Anna Lotan
DESCRIPTION:Cursul de bază Anna Lotan este predestinat cosmeticienilor care doresc să dobândească cunostințelor aprofundate despre produse\,componența acestora\,realizarea diagnosticii detailate a pielii și lucru cu clienții. \nPartea teoretică :\n\nIstoria brandului Anna Lotan\nCaracteristicile produselor mărcii – tehnologii de producție \,formule unice patentate\nÎngrijire de bază : demachiere\,peelinguri\,fiole\,produse de masaj și măști\nPrezentarea produselor pentru ten gras\,problematic\,uscat\,normal\,sensibil și matur\nPrezentarea îngrijirii acasă pentru toate tipurile de ten\n\nPartea practică:\n\nPrezentarea procedurilor Anna Lotan pentru diferite tipuri de ten și afecțiuni
URL:https://new.rofilena.md/event/curs-de-baza-anna-lotan-4/
LOCATION:Rofilena\, Strada Vissarion Belinski 25\, Chisinau\, Buiucani\, 2008\, Moldova\, Republic of
ATTACH;FMTTYPE=image/jpeg:https://new.rofilena.md/wp-content/uploads/2023/12/6-decembrie-site-1.jpg
END:VEVENT
END:VCALENDAR