BEGIN:VCALENDAR
VERSION:2.0
PRODID:-//ROFILENA - ECPv5.3.2//NONSGML v1.0//EN
CALSCALE:GREGORIAN
METHOD:PUBLISH
X-WR-CALNAME:ROFILENA
X-ORIGINAL-URL:https://new.rofilena.md
X-WR-CALDESC:Events for ROFILENA
BEGIN:VTIMEZONE
TZID:Europe/Helsinki
BEGIN:DAYLIGHT
TZOFFSETFROM:+0200
TZOFFSETTO:+0300
TZNAME:EEST
DTSTART:20240331T010000
END:DAYLIGHT
BEGIN:STANDARD
TZOFFSETFROM:+0300
TZOFFSETTO:+0200
TZNAME:EET
DTSTART:20241027T010000
END:STANDARD
END:VTIMEZONE
BEGIN:VEVENT
DTSTART;TZID=Europe/Helsinki:20240205T090000
DTEND;TZID=Europe/Helsinki:20240206T170000
DTSTAMP:20260424T021854
CREATED:20240109T095955Z
LAST-MODIFIED:20240109T100328Z
UID:15016-1707123600-1707238800@new.rofilena.md
SUMMARY:Congres - The power of energy in aesthetic
DESCRIPTION:Ce este : IPL\, YAG\, Resurf\, CO2\, HIFU\, RF\, RF+microneedelimg\nPrincipiile de lucru a acestor tehnologii în medicină estetică\nCare dispozitive le putem combina între ele sau cu  HA și BTXA\nMomente cheie în  îngrijirea și  pregătirea înainte și după tratament.\n\nCând : 5-6 Februarie 2024\nUnde : Madison Park \nPreț : 150€ procurare produse Rofilena
URL:https://new.rofilena.md/event/congres-the-power-of-energy-in-aesthetic/
LOCATION:Madison Park\, Strada Ghioceilor 1\, Chisinau\, Moldova\, Republic of
ATTACH;FMTTYPE=image/jpeg:https://new.rofilena.md/wp-content/uploads/2024/01/congres-rofilena.jpg
END:VEVENT
END:VCALENDAR