BEGIN:VCALENDAR
VERSION:2.0
PRODID:-//ROFILENA - ECPv5.3.2//NONSGML v1.0//EN
CALSCALE:GREGORIAN
METHOD:PUBLISH
X-WR-CALNAME:ROFILENA
X-ORIGINAL-URL:https://new.rofilena.md
X-WR-CALDESC:Events for ROFILENA
BEGIN:VTIMEZONE
TZID:Europe/Helsinki
BEGIN:DAYLIGHT
TZOFFSETFROM:+0200
TZOFFSETTO:+0300
TZNAME:EEST
DTSTART:20230326T010000
END:DAYLIGHT
BEGIN:STANDARD
TZOFFSETFROM:+0300
TZOFFSETTO:+0200
TZNAME:EET
DTSTART:20231029T010000
END:STANDARD
END:VTIMEZONE
BEGIN:VEVENT
DTSTART;TZID=Europe/Helsinki:20230519T100000
DTEND;TZID=Europe/Helsinki:20230520T160000
DTSTAMP:20260422T174142
CREATED:20230508T131430Z
LAST-MODIFIED:20230508T131430Z
UID:14838-1684490400-1684598400@new.rofilena.md
SUMMARY:APTOS
DESCRIPTION:19-20 мая к нам приезжает Игорь Валерьевич Гуляев – тренер и научный руководитель APTOS.\n19 мая – БАЗОВЫЙ курс: теоретическая часть + отработка на моделях.\n20 мая –  КУРС ДЛЯ ПРОДВИНУТЫХ: дополнительные техники коррекции нижней трети лица + отработка на моделях.\nТак же мы являемся в поиске моделях на эту процедуру!
URL:https://new.rofilena.md/event/aptos/
LOCATION:Rofilena\, Strada Vissarion Belinski 25\, Chisinau\, Buiucani\, 2008\, Moldova\, Republic of
ATTACH;FMTTYPE=image/png:https://new.rofilena.md/wp-content/uploads/2023/05/aptos.png
END:VEVENT
END:VCALENDAR