BEGIN:VCALENDAR
VERSION:2.0
PRODID:-//ROFILENA - ECPv5.3.2//NONSGML v1.0//EN
CALSCALE:GREGORIAN
METHOD:PUBLISH
X-WR-CALNAME:ROFILENA
X-ORIGINAL-URL:https://new.rofilena.md
X-WR-CALDESC:Events for ROFILENA
BEGIN:VTIMEZONE
TZID:Europe/Helsinki
BEGIN:DAYLIGHT
TZOFFSETFROM:+0200
TZOFFSETTO:+0300
TZNAME:EEST
DTSTART:20230326T010000
END:DAYLIGHT
BEGIN:STANDARD
TZOFFSETFROM:+0300
TZOFFSETTO:+0200
TZNAME:EET
DTSTART:20231029T010000
END:STANDARD
END:VTIMEZONE
BEGIN:VEVENT
DTSTART;TZID=Europe/Helsinki:20231016T100000
DTEND;TZID=Europe/Helsinki:20231016T150000
DTSTAMP:20260421T212724
CREATED:20230914T151827Z
LAST-MODIFIED:20230914T151925Z
UID:14956-1697450400-1697468400@new.rofilena.md
SUMMARY:СОЧЕТАНЫЕ МЕТОДИКИ. ОСЛОЖНЕНИЯ. БОТОКС И БАДЫ
DESCRIPTION:Программа семинара: \n\nКоррекция ботулотоксином разные морфотипы старения\nВзаимодействие мимических мышц. Когда нужно раслаблять все мышцы синергисты\nСочетаные методики: PLLA\, APTOS\, филлеры\, мезотерапия\, аппаратные методики: М22\, IPL\, HIFU\, RF + microneedling\nОсложнения. Вопрос резистентости. Пациенты пост COVID\nБотулотоксин и бады\n\nОтработка навыков на практике. \nСпикер: Ларкина Светлана – кандидат медицинских наук\, автор 9 патентов и авторских свидетельств\, международный спикер
URL:https://new.rofilena.md/event/%d1%81%d0%be%d1%87%d0%b5%d1%82%d0%b0%d0%bd%d1%8b%d0%b5-%d0%bc%d0%b5%d1%82%d0%be%d0%b4%d0%b8%d0%ba%d0%b8-%d0%be%d1%81%d0%bb%d0%be%d0%b6%d0%bd%d0%b5%d0%bd%d0%b8%d1%8f-%d0%b1%d0%be%d1%82%d0%be%d0%ba/
LOCATION:Rofilena\, Strada Vissarion Belinski 25\, Chisinau\, Buiucani\, 2008\, Moldova\, Republic of
ATTACH;FMTTYPE=image/png:https://new.rofilena.md/wp-content/uploads/2023/09/image0.png
END:VEVENT
END:VCALENDAR