BEGIN:VCALENDAR
VERSION:2.0
PRODID:-//ROFILENA - ECPv5.3.2//NONSGML v1.0//EN
CALSCALE:GREGORIAN
METHOD:PUBLISH
X-WR-CALNAME:ROFILENA
X-ORIGINAL-URL:https://new.rofilena.md
X-WR-CALDESC:Events for ROFILENA
BEGIN:VTIMEZONE
TZID:Europe/Helsinki
BEGIN:DAYLIGHT
TZOFFSETFROM:+0200
TZOFFSETTO:+0300
TZNAME:EEST
DTSTART:20220327T010000
END:DAYLIGHT
BEGIN:STANDARD
TZOFFSETFROM:+0300
TZOFFSETTO:+0200
TZNAME:EET
DTSTART:20221030T010000
END:STANDARD
END:VTIMEZONE
BEGIN:VEVENT
DTSTART;TZID=Europe/Helsinki:20221112T100000
DTEND;TZID=Europe/Helsinki:20221113T160000
DTSTAMP:20260425T053547
CREATED:20221019T064128Z
LAST-MODIFIED:20221019T064208Z
UID:14586-1668247200-1668355200@new.rofilena.md
SUMMARY:Приглашаем Вас на курс по нитям APTOS
DESCRIPTION:12 ноября «Базовое обучение»\nТеоретическая часть + отработка на моделях.\nСтоимость: закупка нитей APTOS на сумму 300€ \n13 ноября «Обучение для продвинутых»\nВключает только практическую часть: Отработку на моделях.\nСтоимость: закупка нитей APTOS на сумму 500€ \nПрактическая часть. Отработка методов APTOS на своих моделях под руководством тренера \n\nОпределение показаний. Выбор оптимальных методов\nПодготовка пациента к процедуре\nОсобенности проведения анестезии и процедуры нитевого лифтинга\nПодготовка пациента к процедуре.\n\n*у каждого участника курса должна быть своя модель \nТренер: Гуляев Игорь Валерьевич\nПластический хирург\, к.м.н.\, научный руководитель ООО „АПТОС ГРУПП”\nТренер-эксперт APTOS
URL:https://new.rofilena.md/event/%d0%bf%d1%80%d0%b8%d0%b3%d0%bb%d0%b0%d1%88%d0%b0%d0%b5%d0%bc-%d0%b2%d0%b0%d1%81-%d0%bd%d0%b0-%d0%ba%d1%83%d1%80%d1%81-%d0%bf%d0%be-%d0%bd%d0%b8%d1%82%d1%8f%d0%bc-aptos/
LOCATION:Rofilena\, Strada Vissarion Belinski 25\, Chisinau\, Buiucani\, 2008\, Moldova\, Republic of
ATTACH;FMTTYPE=image/jpeg:https://new.rofilena.md/wp-content/uploads/2022/10/banner-aptos.jpg
END:VEVENT
END:VCALENDAR