BEGIN:VCALENDAR
VERSION:2.0
PRODID:-//ROFILENA - ECPv5.3.2//NONSGML v1.0//EN
CALSCALE:GREGORIAN
METHOD:PUBLISH
X-WR-CALNAME:ROFILENA
X-ORIGINAL-URL:https://new.rofilena.md
X-WR-CALDESC:Events for ROFILENA
BEGIN:VTIMEZONE
TZID:Europe/Helsinki
BEGIN:DAYLIGHT
TZOFFSETFROM:+0200
TZOFFSETTO:+0300
TZNAME:EEST
DTSTART:20230326T010000
END:DAYLIGHT
BEGIN:STANDARD
TZOFFSETFROM:+0300
TZOFFSETTO:+0200
TZNAME:EET
DTSTART:20231029T010000
END:STANDARD
END:VTIMEZONE
BEGIN:VEVENT
DTSTART;TZID=Europe/Helsinki:20231125T100000
DTEND;TZID=Europe/Helsinki:20231125T160000
DTSTAMP:20260423T132842
CREATED:20231120T083612Z
LAST-MODIFIED:20231120T083612Z
UID:14975-1700906400-1700928000@new.rofilena.md
SUMMARY:Подход TEOXANE. МЕТОДИКА MLT 3.1
DESCRIPTION:Приглашаем Вас на семинар в субботу 25.11 Teoxane Academy Moldova \nПриглашенный эксперт Teoxane из Польши: Małgorzata Kocot \nПрограмма семинара: \nПодход TEOXANE к средней третьи и периорбитальной области. МЕТОДИКА MLT 3.1\nАнатомические ориентиры и опасные зоны в периорбитальной области и средней трети. \nПодход TEOXANE к нижней трети. МЕТОДИКА MLT 3.1\nАнатомические ориентиры и опасные зоны в нижней трети. \nОСЛОЖНЕНИЯ: Избежание и управление \nОбзор распространенных осложнений и мер\, которые можно предпринять\, чтобы их избежать.\nВопросы аудитории\, касающиеся распространенных осложнений при различных видах коррекции. \nLive Demo на моделях\nЛекция будет читаться на английском языке
URL:https://new.rofilena.md/event/%d0%bf%d0%be%d0%b4%d1%85%d0%be%d0%b4-teoxane-%d0%bc%d0%b5%d1%82%d0%be%d0%b4%d0%b8%d0%ba%d0%b0-mlt-3-1/
LOCATION:Rofilena\, Strada Vissarion Belinski 25\, Chisinau\, Buiucani\, 2008\, Moldova\, Republic of
ATTACH;FMTTYPE=image/jpeg:https://new.rofilena.md/wp-content/uploads/2023/11/IMG_6674.jpg
END:VEVENT
END:VCALENDAR