BEGIN:VCALENDAR
VERSION:2.0
PRODID:-//ROFILENA - ECPv5.3.2//NONSGML v1.0//EN
CALSCALE:GREGORIAN
METHOD:PUBLISH
X-WR-CALNAME:ROFILENA
X-ORIGINAL-URL:https://new.rofilena.md
X-WR-CALDESC:Events for ROFILENA
BEGIN:VTIMEZONE
TZID:Europe/Helsinki
BEGIN:DAYLIGHT
TZOFFSETFROM:+0200
TZOFFSETTO:+0300
TZNAME:EEST
DTSTART:20240331T010000
END:DAYLIGHT
BEGIN:STANDARD
TZOFFSETFROM:+0300
TZOFFSETTO:+0200
TZNAME:EET
DTSTART:20241027T010000
END:STANDARD
END:VTIMEZONE
BEGIN:VEVENT
DTSTART;TZID=Europe/Helsinki:20240410T100000
DTEND;TZID=Europe/Helsinki:20240410T160000
DTSTAMP:20260424T121821
CREATED:20240405T081211Z
LAST-MODIFIED:20240405T081211Z
UID:15060-1712743200-1712764800@new.rofilena.md
SUMMARY:Объёмное моделирование средней и нижней трети лица. MLT 3.0
DESCRIPTION:Программа: \n\nATP Approach: Анатомия\, Техника\, Продукт\nАнатомические особенности и опасные зоны\nТехники объёмной коррекции лица\nРеологические особенности препаратов для волюметрической коррекции\n\nМастер класс: коррекция объёмов скул\, подбородка и углов нижней челюсти
URL:https://new.rofilena.md/event/%d0%be%d0%b1%d1%8a%d1%91%d0%bc%d0%bd%d0%be%d0%b5-%d0%bc%d0%be%d0%b4%d0%b5%d0%bb%d0%b8%d1%80%d0%be%d0%b2%d0%b0%d0%bd%d0%b8%d0%b5-%d1%81%d1%80%d0%b5%d0%b4%d0%bd%d0%b5%d0%b9-%d0%b8-%d0%bd%d0%b8%d0%b6/
LOCATION:Rofilena\, Strada Vissarion Belinski 25\, Chisinau\, Buiucani\, 2008\, Moldova\, Republic of
ATTACH;FMTTYPE=image/jpeg:https://new.rofilena.md/wp-content/uploads/2024/04/10-aprilie.jpg
END:VEVENT
END:VCALENDAR