BEGIN:VCALENDAR
VERSION:2.0
PRODID:-//ROFILENA - ECPv5.3.2//NONSGML v1.0//EN
CALSCALE:GREGORIAN
METHOD:PUBLISH
X-WR-CALNAME:ROFILENA
X-ORIGINAL-URL:https://new.rofilena.md
X-WR-CALDESC:Events for ROFILENA
BEGIN:VTIMEZONE
TZID:Europe/Helsinki
BEGIN:DAYLIGHT
TZOFFSETFROM:+0200
TZOFFSETTO:+0300
TZNAME:EEST
DTSTART:20230326T010000
END:DAYLIGHT
BEGIN:STANDARD
TZOFFSETFROM:+0300
TZOFFSETTO:+0200
TZNAME:EET
DTSTART:20231029T010000
END:STANDARD
END:VTIMEZONE
BEGIN:VEVENT
DTSTART;TZID=Europe/Helsinki:20230224T100000
DTEND;TZID=Europe/Helsinki:20230224T160000
DTSTAMP:20260423T153755
CREATED:20230207T081709Z
LAST-MODIFIED:20230207T081834Z
UID:14752-1677232800-1677254400@new.rofilena.md
SUMMARY:ОБЗОР М22
DESCRIPTION:М22 – многомодульная платформа\, предназначенная для проведения процедур фотомоложения\, удаления сосудистых звездочек и пигментации. \nВ ходе семинара рассмотрим спектр возможностей аппарата М22\, а именно рукояток: ResurFX\, IPL\, ND:Yag \n• ResurFX – неабляционный фракционный лазер для ремоделирования покровных тканей в целях лечения хроно- и фотостарения\, коррекции рубцов и растяжек\n• IPL – широко-полосный импульсный свет лечебного воздействия на ткани\, позволяющая решать многие эстетические проблемы: пигментация\, акнэ\, сосуды\, фото-омоложение\n• ND:Yag –  лазер для лечения сосудистых дисхромий\, гемангиом\, винных пятен \nТЕОРЕТИЧЕСКАЯ ЧАСТЬ:\n• Многомодульная платформа М22. Возможности и эффективные протоколы работы IPL системы\, ResurFX\, Nd:YAG лазера в практике врача косметолога.\n• Неаблятивный фракционный фототермолиз ResurFX 1550 нм\,\nвозможности терапии возрастных изменений кожи.\n• Неаблятивный фракционный фототермолиз ResurFX в терапии рубцовой патологии кожи\n• Основные характеристики аппаратов широкополосного импульсного света: диапазон длин волн\, плотность потока энергии\, длительность импульса\, размер пятна.\n• Диапазон возможностей аппарата IPL: лечение акнэ\, устранение пигментации\, сосудов\n• Особенности технологий\, разница между ними\n• Как безопасно проводить процедуру фотолечения с IPL на М22\n• Как комбинировать Q-Switched Nd: YAG и ResurFX\n• Профилактика осложнений после проведения высокоэнергетических процедур в косметологии. \nПРАКТИЧЕСКАЯ ЧАСТЬ:\n• Демонстрация процедуры по разным показаниям на модели
URL:https://new.rofilena.md/event/%d0%be%d0%b1%d0%b7%d0%be%d1%80-%d0%bc22/
LOCATION:Rofilena\, Strada Vissarion Belinski 25\, Chisinau\, Buiucani\, 2008\, Moldova\, Republic of
ATTACH;FMTTYPE=image/png:https://new.rofilena.md/wp-content/uploads/2023/02/image0_2.png
END:VEVENT
END:VCALENDAR