BEGIN:VCALENDAR
VERSION:2.0
PRODID:-//ROFILENA - ECPv5.3.2//NONSGML v1.0//EN
CALSCALE:GREGORIAN
METHOD:PUBLISH
X-WR-CALNAME:ROFILENA
X-ORIGINAL-URL:https://new.rofilena.md
X-WR-CALDESC:Events for ROFILENA
BEGIN:VTIMEZONE
TZID:Europe/Helsinki
BEGIN:DAYLIGHT
TZOFFSETFROM:+0200
TZOFFSETTO:+0300
TZNAME:EEST
DTSTART:20240331T010000
END:DAYLIGHT
BEGIN:STANDARD
TZOFFSETFROM:+0300
TZOFFSETTO:+0200
TZNAME:EET
DTSTART:20241027T010000
END:STANDARD
END:VTIMEZONE
BEGIN:VEVENT
DTSTART;TZID=Europe/Helsinki:20240402T100000
DTEND;TZID=Europe/Helsinki:20240402T160000
DTSTAMP:20260424T093234
CREATED:20240228T144720Z
LAST-MODIFIED:20240228T144757Z
UID:15041-1712052000-1712073600@new.rofilena.md
SUMMARY:НОВЫЕ ЗОНЫ ПРИМЕНЕНИЯ. II Ступень
DESCRIPTION:Теория:  \n\nРеологические особенности препарата\nОсмолиты – необходимые элементы для восстановления качества и молодости кожи\nТехнология CO-DELIVERY\nПоказания/Противопоказания\nСочетание с другими процедурами\n\nПрактика:  \n\nКлассическая техника 7 вколов\nКанюльная техника введения препарата в зоне лица\nЛатеральный лифтинг шеи\nОмоложение зоны декольте\,  кистей рук\nТехника введения препарата в пероральной зоне
URL:https://new.rofilena.md/event/%d0%bd%d0%be%d0%b2%d1%8b%d0%b5-%d0%b7%d0%be%d0%bd%d1%8b-%d0%bf%d1%80%d0%b8%d0%bc%d0%b5%d0%bd%d0%b5%d0%bd%d0%b8%d1%8f-ii-%d1%81%d1%82%d1%83%d0%bf%d0%b5%d0%bd%d1%8c/
LOCATION:Rofilena\, Strada Vissarion Belinski 25\, Chisinau\, Buiucani\, 2008\, Moldova\, Republic of
ATTACH;FMTTYPE=image/png:https://new.rofilena.md/wp-content/uploads/2024/02/rofilena-2aprilie.png
END:VEVENT
END:VCALENDAR