BEGIN:VCALENDAR
VERSION:2.0
PRODID:-//ROFILENA - ECPv5.3.2//NONSGML v1.0//EN
CALSCALE:GREGORIAN
METHOD:PUBLISH
X-WR-CALNAME:ROFILENA
X-ORIGINAL-URL:https://new.rofilena.md
X-WR-CALDESC:Events for ROFILENA
BEGIN:VTIMEZONE
TZID:Europe/Helsinki
BEGIN:DAYLIGHT
TZOFFSETFROM:+0200
TZOFFSETTO:+0300
TZNAME:EEST
DTSTART:20230326T010000
END:DAYLIGHT
BEGIN:STANDARD
TZOFFSETFROM:+0300
TZOFFSETTO:+0200
TZNAME:EET
DTSTART:20231029T010000
END:STANDARD
END:VTIMEZONE
BEGIN:VEVENT
DTSTART;TZID=Europe/Helsinki:20230118T100000
DTEND;TZID=Europe/Helsinki:20230118T160000
DTSTAMP:20260424T052419
CREATED:20221216T100845Z
LAST-MODIFIED:20221216T100845Z
UID:14691-1674036000-1674057600@new.rofilena.md
SUMMARY:НЕЙРОПРОТЕИН В СТОМАТОЛОГИИ.
DESCRIPTION:Программа курса: \n\nПрименение нейропротеина в стоматологии.\nФункция всех мышц\, участвующих в жевании. Мышцы синергисты и антогонисты.\nПортрет нейропротеина (строение молекулы\, активация\, воздействие на мышцы\, разведение\, дифузия)\nБруксизм. Этиология и патогенез. Виды. Комплексное Лечение.\nРазметка и расчет единиц для работы со стоматологическими пациентами\n\nПрактическая часть: FULL FACE коррекция стоматологического пациента. \n\nОтработка навыков выявления и диагностики пациентов с бруксизмом\, дифференциальная диагностика с гипертрофией жевательных мышц.\nКоррекция гингивальной улыбки.\nКоррекция ассиметричной улыбки.\nBotulomake-up.\n\nСпикер: Ларкина Светлана – Главный врач\, кандидат медицинских наук\, магистр госуправления\, автор 9 патентов и авторских свидетельств\, международный спикер
URL:https://new.rofilena.md/event/%d0%bd%d0%b5%d0%b9%d1%80%d0%be%d0%bf%d1%80%d0%be%d1%82%d0%b5%d0%b8%d0%bd-%d0%b2-%d1%81%d1%82%d0%be%d0%bc%d0%b0%d1%82%d0%be%d0%bb%d0%be%d0%b3%d0%b8%d0%b8/
LOCATION:Rofilena\, Strada Vissarion Belinski 25\, Chisinau\, Buiucani\, 2008\, Moldova\, Republic of
ATTACH;FMTTYPE=image/png:https://new.rofilena.md/wp-content/uploads/2022/12/image0.png
END:VEVENT
END:VCALENDAR