BEGIN:VCALENDAR
VERSION:2.0
PRODID:-//ROFILENA - ECPv5.3.2//NONSGML v1.0//EN
CALSCALE:GREGORIAN
METHOD:PUBLISH
X-WR-CALNAME:ROFILENA
X-ORIGINAL-URL:https://new.rofilena.md
X-WR-CALDESC:Events for ROFILENA
BEGIN:VTIMEZONE
TZID:Europe/Helsinki
BEGIN:DAYLIGHT
TZOFFSETFROM:+0200
TZOFFSETTO:+0300
TZNAME:EEST
DTSTART:20240331T010000
END:DAYLIGHT
BEGIN:STANDARD
TZOFFSETFROM:+0300
TZOFFSETTO:+0200
TZNAME:EET
DTSTART:20241027T010000
END:STANDARD
END:VTIMEZONE
BEGIN:VEVENT
DTSTART;TZID=Europe/Helsinki:20240924T100000
DTEND;TZID=Europe/Helsinki:20240924T160000
DTSTAMP:20260425T041508
CREATED:20240806T062850Z
LAST-MODIFIED:20240806T062850Z
UID:15174-1727172000-1727193600@new.rofilena.md
SUMMARY:Динамическая коррекция мелких морщин
DESCRIPTION:Возможности и показания филера Teosyal RHA 1. \nТехники инъекций: игла и/или канюля. \nОпасные анатомические зоны в корекции мелких морщин. \nВозможные осложнения и протоколы лечения. \nTeosyal Puresence Redensity 1 \nНовые возможности биоревитализации как часть техники MLT 3.1 \nЗначительные преимущества коррекции без периода реабилитации \nДемонстрация техник работы на моделях
URL:https://new.rofilena.md/event/%d0%b4%d0%b8%d0%bd%d0%b0%d0%bc%d0%b8%d1%87%d0%b5%d1%81%d0%ba%d0%b0%d1%8f-%d0%ba%d0%be%d1%80%d1%80%d0%b5%d0%ba%d1%86%d0%b8%d1%8f-%d0%bc%d0%b5%d0%bb%d0%ba%d0%b8%d1%85-%d0%bc%d0%be%d1%80%d1%89%d0%b8/
LOCATION:Rofilena\, Strada Vissarion Belinski 25\, Chisinau\, Buiucani\, 2008\, Moldova\, Republic of
ATTACH;FMTTYPE=image/jpeg:https://new.rofilena.md/wp-content/uploads/2024/08/image0.jpeg
END:VEVENT
END:VCALENDAR