BEGIN:VCALENDAR
VERSION:2.0
PRODID:-//ROFILENA - ECPv5.3.2//NONSGML v1.0//EN
CALSCALE:GREGORIAN
METHOD:PUBLISH
X-WR-CALNAME:ROFILENA
X-ORIGINAL-URL:https://new.rofilena.md
X-WR-CALDESC:Events for ROFILENA
BEGIN:VTIMEZONE
TZID:Europe/Helsinki
BEGIN:DAYLIGHT
TZOFFSETFROM:+0200
TZOFFSETTO:+0300
TZNAME:EEST
DTSTART:20230326T010000
END:DAYLIGHT
BEGIN:STANDARD
TZOFFSETFROM:+0300
TZOFFSETTO:+0200
TZNAME:EET
DTSTART:20231029T010000
END:STANDARD
END:VTIMEZONE
BEGIN:VEVENT
DTSTART;TZID=Europe/Helsinki:20230907T100000
DTEND;TZID=Europe/Helsinki:20230907T160000
DTSTAMP:20260422T062830
CREATED:20230828T125256Z
LAST-MODIFIED:20230828T125256Z
UID:14939-1694080800-1694102400@new.rofilena.md
SUMMARY:Дерматокосмоцевтика Dermacte
DESCRIPTION:7 сентября пройдет обучающий семинар по дерматокосмоцевтической линейки продуктов – Dermacte. \nПередовые уходы и иновационные технологии\, вдохновленные эстетической медициной. \nSoft peel – решение популярных эстетических задач в современном косметологическом кабинете. \nЛиния домашнего ухода: очищение\, сыворотки\, кремы – разбор составов и тестирование. \nК курсу допускаются только специалисты в эстетической сфере. \n!! Предварительная запись обязательна.
URL:https://new.rofilena.md/event/%d0%b4%d0%b5%d1%80%d0%bc%d0%b0%d1%82%d0%be%d0%ba%d0%be%d1%81%d0%bc%d0%be%d1%86%d0%b5%d0%b2%d1%82%d0%b8%d0%ba%d0%b0-dermacte/
LOCATION:Rofilena\, Strada Vissarion Belinski 25\, Chisinau\, Buiucani\, 2008\, Moldova\, Republic of
ATTACH;FMTTYPE=image/png:https://new.rofilena.md/wp-content/uploads/2023/08/image1-1.png
END:VEVENT
END:VCALENDAR