BEGIN:VCALENDAR
VERSION:2.0
PRODID:-//ROFILENA - ECPv5.3.2//NONSGML v1.0//EN
CALSCALE:GREGORIAN
METHOD:PUBLISH
X-WR-CALNAME:ROFILENA
X-ORIGINAL-URL:https://new.rofilena.md
X-WR-CALDESC:Events for ROFILENA
BEGIN:VTIMEZONE
TZID:Europe/Helsinki
BEGIN:DAYLIGHT
TZOFFSETFROM:+0200
TZOFFSETTO:+0300
TZNAME:EEST
DTSTART:20220327T010000
END:DAYLIGHT
BEGIN:STANDARD
TZOFFSETFROM:+0300
TZOFFSETTO:+0200
TZNAME:EET
DTSTART:20221030T010000
END:STANDARD
END:VTIMEZONE
BEGIN:VEVENT
DTSTART;TZID=Europe/Helsinki:20221116T100000
DTEND;TZID=Europe/Helsinki:20221116T160000
DTSTAMP:20260425T025151
CREATED:20220914T135908Z
LAST-MODIFIED:20220914T135908Z
UID:14524-1668592800-1668614400@new.rofilena.md
SUMMARY:ВОЗМОЖНОСТИ ТЕХНОЛОГИИ IPL
DESCRIPTION:В ходе семинара мы рассмотрим спектр возможностей IPL технологии и продемонстрируем на модели процедуру \nIPL – терапия (IPL\, Intense Pulsed Light – интенсивный импульсный свет) – высоко-энергетическая методика лечебного воздействия на ткани\, позволяющая решать многие эстетические проблемы и являющаяся одной из самых универсальных. \nТЕОРЕТИЧЕСКАЯ ЧАСТЬ: \n\nТеория селективного фото-термолиза\nРазница между IPL и BBL\nОсновные характеристики аппаратов широкополосного импульсного света: диапазон длин волн\, плотность потока энергии\, длительность импульса\, размер пятна.\nДиапазон возможностей аппарата IPL: лечение акнэ\, устранение пигментации\, сосудов\nПротоколы сочетания М22 и других процедур для комплексного решения задачи\nОтвет на самые частые вопросы клиентов: болезненная ли процедура\, сколько сеансов необходимо\, виден ли результат после первой процедуры\nРеабилитация после процедуры и как предотвратить осложнения\n\nПРАКТИЧЕСКАЯ ЧАСТЬ: \n\nДемонстрация коррекции сосудистых и пигментных дисхромий на модели
URL:https://new.rofilena.md/event/%d0%b2%d0%be%d0%b7%d0%bc%d0%be%d0%b6%d0%bd%d0%be%d1%81%d1%82%d0%b8-%d1%82%d0%b5%d1%85%d0%bd%d0%be%d0%bb%d0%be%d0%b3%d0%b8%d0%b8-ipl/
LOCATION:Rofilena\, Strada Vissarion Belinski 25\, Chisinau\, Buiucani\, 2008\, Moldova\, Republic of
ATTACH;FMTTYPE=image/jpeg:https://new.rofilena.md/wp-content/uploads/2022/09/ipl.jpg
END:VEVENT
END:VCALENDAR