BEGIN:VCALENDAR
VERSION:2.0
PRODID:-//ROFILENA - ECPv5.3.2//NONSGML v1.0//EN
CALSCALE:GREGORIAN
METHOD:PUBLISH
X-WR-CALNAME:ROFILENA
X-ORIGINAL-URL:https://new.rofilena.md
X-WR-CALDESC:Events for ROFILENA
BEGIN:VTIMEZONE
TZID:Europe/Helsinki
BEGIN:DAYLIGHT
TZOFFSETFROM:+0200
TZOFFSETTO:+0300
TZNAME:EEST
DTSTART:20230326T010000
END:DAYLIGHT
BEGIN:STANDARD
TZOFFSETFROM:+0300
TZOFFSETTO:+0200
TZNAME:EET
DTSTART:20231029T010000
END:STANDARD
END:VTIMEZONE
BEGIN:VEVENT
DTSTART;TZID=Europe/Helsinki:20231124T100000
DTEND;TZID=Europe/Helsinki:20231128T160000
DTSTAMP:20260421T112450
CREATED:20231120T085330Z
LAST-MODIFIED:20231120T085409Z
UID:14978-1700820000-1701187200@new.rofilena.md
SUMMARY:Базовый курс Применения гиалуроновой кислоты.
DESCRIPTION:Курс подготовлен специально для врачей с высшем медицинским образованием\, которые хотят приобрести базовые навыки и знания в работе с дермальными филлерами учитывая анатомию\, техники и биохимические свойства препаратов. \nДлительность курса 4 дня.\nПрограмма курса включает теоретическую и практическую часть. Отработку обретенных навыков на моделях: губы\, мелкие морщины\, объемное моделирование средней и нижней части лица. \nВ группе максимум 4 человека. \nВажно: К курсу допускаются только студенты с высшим медицинским образованием.
URL:https://new.rofilena.md/event/%d0%b1%d0%b0%d0%b7%d0%be%d0%b2%d1%8b%d0%b9-%d0%ba%d1%83%d1%80%d1%81-%d0%bf%d1%80%d0%b8%d0%bc%d0%b5%d0%bd%d0%b5%d0%bd%d0%b8%d1%8f-%d0%b3%d0%b8%d0%b0%d0%bb%d1%83%d1%80%d0%be%d0%bd%d0%be%d0%b2%d0%be/
LOCATION:Rofilena\, Strada Vissarion Belinski 25\, Chisinau\, Buiucani\, 2008\, Moldova\, Republic of
ATTACH;FMTTYPE=image/jpeg:https://new.rofilena.md/wp-content/uploads/2023/11/IMG_6717.jpg
END:VEVENT
END:VCALENDAR