BEGIN:VCALENDAR
VERSION:2.0
PRODID:-//ROFILENA - ECPv5.3.2//NONSGML v1.0//EN
CALSCALE:GREGORIAN
METHOD:PUBLISH
X-WR-CALNAME:ROFILENA
X-ORIGINAL-URL:https://new.rofilena.md
X-WR-CALDESC:Events for ROFILENA
BEGIN:VTIMEZONE
TZID:Europe/Helsinki
BEGIN:DAYLIGHT
TZOFFSETFROM:+0200
TZOFFSETTO:+0300
TZNAME:EEST
DTSTART:20230326T010000
END:DAYLIGHT
BEGIN:STANDARD
TZOFFSETFROM:+0300
TZOFFSETTO:+0200
TZNAME:EET
DTSTART:20231029T010000
END:STANDARD
END:VTIMEZONE
BEGIN:VEVENT
DTSTART;TZID=Europe/Helsinki:20230125T100000
DTEND;TZID=Europe/Helsinki:20230126T160000
DTSTAMP:20260424T005017
CREATED:20221223T103651Z
LAST-MODIFIED:20221223T110047Z
UID:14712-1674640800-1674748800@new.rofilena.md
SUMMARY:БАЗОВЫЙ КУРС ПО ЛАЗЕРНОЙ ЭПИЛЯЦИИ
DESCRIPTION:1 день \n\nИсторияи сферы применения в современной косметологии и в медицине;\nКлассификацияи принцип работы\, виды оборудования для дефинитивной эпиляции. Обзор оборудования на рынке РМ\nКакработать на оборудовании для Лазерной Эпиляции;\nПодписаниеИнформационного соглашения с клиентом;\nСборанамнеза\, заполнение анкеты клиента и форма ведения;\nОпределениефототипа клиента и выставление параметров;\nДопроцедурная подготовка и пост процедурный уход;\n\nПрактическая отработка \n2 день \n\nКаквыставить правильный график процедур;\nПоказанияи противопоказания к проведению лазерной и фото эпиляции;\nПобочныеэффекты и осложнения\, рекомендации по профилактике; ⠀\nСравнительныйанализ оборудования с другими методами\, протоколы работы для всех фототипов\n\nПрактическая отработка \n* Практическая часть : \n\nКаждыйиз участников семинара проводит процедуру и выступает в качестве модели;\nОтрабатываемыетехники в зонах: лицо\, подмышечные впадины\, глубокий интим\, ноги\, руки;\nПостановкаруки под руководством тренера;\nОбучениепроходит на золотом стандарте лазерной эпиляции LUMENIS
URL:https://new.rofilena.md/event/%d0%b1%d0%b0%d0%b7%d0%be%d0%b2%d1%8b%d0%b9-%d0%ba%d1%83%d1%80%d1%81-%d0%bf%d0%be-%d0%bb%d0%b0%d0%b7%d0%b5%d1%80%d0%bd%d0%be%d0%b9-%d1%8d%d0%bf%d0%b8%d0%bb%d1%8f%d1%86%d0%b8%d0%b8-2/
LOCATION:Rofilena\, Strada Vissarion Belinski 25\, Chisinau\, Buiucani\, 2008\, Moldova\, Republic of
ATTACH;FMTTYPE=image/png:https://new.rofilena.md/wp-content/uploads/2022/12/image1-1.png
END:VEVENT
END:VCALENDAR