BEGIN:VCALENDAR
VERSION:2.0
PRODID:-//ROFILENA - ECPv5.3.2//NONSGML v1.0//EN
CALSCALE:GREGORIAN
METHOD:PUBLISH
X-WR-CALNAME:ROFILENA
X-ORIGINAL-URL:https://new.rofilena.md
X-WR-CALDESC:Events for ROFILENA
BEGIN:VTIMEZONE
TZID:Europe/Helsinki
BEGIN:DAYLIGHT
TZOFFSETFROM:+0200
TZOFFSETTO:+0300
TZNAME:EEST
DTSTART:20230326T010000
END:DAYLIGHT
BEGIN:STANDARD
TZOFFSETFROM:+0300
TZOFFSETTO:+0200
TZNAME:EET
DTSTART:20231029T010000
END:STANDARD
END:VTIMEZONE
BEGIN:VEVENT
DTSTART;TZID=Europe/Helsinki:20230221T100000
DTEND;TZID=Europe/Helsinki:20230223T160000
DTSTAMP:20260423T172230
CREATED:20230207T081434Z
LAST-MODIFIED:20230209T084251Z
UID:14750-1676973600-1677168000@new.rofilena.md
SUMMARY:БАЗОВОЕ ОБУЧЕНИЕ ПО НЕЙРОТОКСИНУ
DESCRIPTION:Программа курса:\n1 день: \n-Понятие нейропротеин. Принцип его действия\n-Виды ботулотоксинов\, их различия и особенности каждого\n-Способы разведения ботулотоксинов\, виды шприцов и алгоритм работы\n-Анатомия и биомеханика мышц лица \n2 день \n-Разбор домашнего задания\n-Повторение биомеханики мышц\n-Отработка разметки лица пациента перед процедурой (обучающиеся отрабатывают разметку друг на друге и на моделях) \nПрактическая часть:\n-Коррекция морщин межбровья с учетом особенностей анатомии пациента\n-Коррекция горизонтальных морщин лба с учетом особенностей анатомии пациента.\n-Подъем линии брови и нависающего века с помощью ботулотоксина.\n-Коррекция мимических морщин вокруг глаз\, различные техники с учетом индивидуальных особенностей анатомии пациента.\n-Лечение гипергидроза.\n-Как предотвратить осложнения\, на что стоит обратить внимание\n3 день\n-Разбор домашнего задания\n-Тест по теоретической части \nПрактическая часть:\n-Отработка моделей
URL:https://new.rofilena.md/event/%d0%b1%d0%b0%d0%b7%d0%be%d0%b2%d0%be%d0%b5-%d0%be%d0%b1%d1%83%d1%87%d0%b5%d0%bd%d0%b8%d0%b5-%d0%bf%d0%be-%d0%bd%d0%b5%d0%b9%d1%80%d0%be%d1%82%d0%be%d0%ba%d1%81%d0%b8%d0%bd%d1%83/
LOCATION:Rofilena\, Strada Vissarion Belinski 25\, Chisinau\, Buiucani\, 2008\, Moldova\, Republic of
ATTACH;FMTTYPE=image/png:https://new.rofilena.md/wp-content/uploads/2023/02/image11.png
END:VEVENT
END:VCALENDAR