BEGIN:VCALENDAR
VERSION:2.0
PRODID:-//ROFILENA - ECPv5.3.2//NONSGML v1.0//EN
CALSCALE:GREGORIAN
METHOD:PUBLISH
X-WR-CALNAME:ROFILENA
X-ORIGINAL-URL:https://new.rofilena.md
X-WR-CALDESC:Events for ROFILENA
BEGIN:VTIMEZONE
TZID:Europe/Helsinki
BEGIN:DAYLIGHT
TZOFFSETFROM:+0200
TZOFFSETTO:+0300
TZNAME:EEST
DTSTART:20230326T010000
END:DAYLIGHT
BEGIN:STANDARD
TZOFFSETFROM:+0300
TZOFFSETTO:+0200
TZNAME:EET
DTSTART:20231029T010000
END:STANDARD
END:VTIMEZONE
BEGIN:VEVENT
DTSTART;TZID=Europe/Helsinki:20231017T100000
DTEND;TZID=Europe/Helsinki:20231019T170000
DTSTAMP:20260421T212900
CREATED:20230731T121730Z
LAST-MODIFIED:20230731T122037Z
UID:14909-1697536800-1697734800@new.rofilena.md
SUMMARY:БАЗОВОЕ ОБУЧЕНИЕ ПО НЕЙРОТОКСИНУ
DESCRIPTION:Программа курса:\n1 день: \n\nПонятие нейропротеин. Принцип его действия\nВиды ботулотоксинов\, их различия и особенности каждого\nСпособы разведения ботулотоксинов\, виды шприцов и алгоритм работы\nАнатомия и биомеханика мышц лица\n\n2 день \n\nРазбор домашнего задания\nПовторение биомеханики мышц\nОтработка разметки лица пациента перед процедурой (обучающиеся отрабатывают разметку друг на друге и на моделях)\n\nПрактическая часть:\n\nКоррекция морщин межбровья с учетом особенностей анатомии пациента\nКоррекция горизонтальных морщин лба с учетом особенностей анатомии пациента.\nПодъем линии брови и нависающего века с помощью ботулотоксина.\nКоррекция мимических морщин вокруг глаз\, различные техники с учетом индивидуальных особенностей анатомии пациента.\nЛечение гипергидроза.\nКак предотвратить осложнения\, на что стоит обратить внимание\n\n3 день \n\nРазбор домашнего задания\nТест по теоретической части\n\nПрактическая часть:\n\nОтработка моделей
URL:https://new.rofilena.md/event/%d0%b1%d0%b0%d0%b7%d0%be%d0%b2%d0%be%d0%b5-%d0%be%d0%b1%d1%83%d1%87%d0%b5%d0%bd%d0%b8%d0%b5-%d0%bf%d0%be-%d0%bd%d0%b5%d0%b9%d1%80%d0%be%d1%82%d0%be%d0%ba%d1%81%d0%b8%d0%bd%d1%83-2/
LOCATION:Rofilena\, Strada Vissarion Belinski 25\, Chisinau\, Buiucani\, 2008\, Moldova\, Republic of
ATTACH;FMTTYPE=image/png:https://new.rofilena.md/wp-content/uploads/2023/07/image0000.png
END:VEVENT
END:VCALENDAR