BEGIN:VCALENDAR
VERSION:2.0
PRODID:-//ROFILENA - ECPv5.3.2//NONSGML v1.0//EN
CALSCALE:GREGORIAN
METHOD:PUBLISH
X-WR-CALNAME:ROFILENA
X-ORIGINAL-URL:https://new.rofilena.md
X-WR-CALDESC:Events for ROFILENA
BEGIN:VTIMEZONE
TZID:Europe/Helsinki
BEGIN:DAYLIGHT
TZOFFSETFROM:+0200
TZOFFSETTO:+0300
TZNAME:EEST
DTSTART:20240331T010000
END:DAYLIGHT
BEGIN:STANDARD
TZOFFSETFROM:+0300
TZOFFSETTO:+0200
TZNAME:EET
DTSTART:20241027T010000
END:STANDARD
END:VTIMEZONE
BEGIN:VEVENT
DTSTART;TZID=Europe/Helsinki:20240422T100000
DTEND;TZID=Europe/Helsinki:20240424T160000
DTSTAMP:20260424T165611
CREATED:20240228T145005Z
LAST-MODIFIED:20240228T145041Z
UID:15044-1713780000-1713974400@new.rofilena.md
SUMMARY:БАЗОВОЕ ОБУЧЕНИЕ ПО МЕЗОТЕРАПИИ И БИОРЕВИТАЛИЗАЦИИ
DESCRIPTION:Обучение мезотерапии и биоревитализации \n3-х дневный курс. \nПервый этап инъекционных эстетических процедур. \nПрограмма: \n\nМеханизм действия мезопрепаратов. Области и показания\nПротоколы работы с монопрепаратами и коктейлями\nМезотерапия в рабочих программах для лица\, шеи и зоны декольте\nМезотерапия в программах работы области кожи головы\nМезотерапия в программах коррекции фигуры\nМезотерапевтические продукты нового поколения: PDRN\, PN\, экзосомы\n\nПрактическая часть: \n\nКомбинирование монопрепаратов для разных областей лечения\nНавыки введения препарата в эпидермальном\, субдермальном\, дермальном слое кожи\nБиоревитализация\nМезотерапия в программах коррекции фигуры\nМезотерапия в программах лечения алопеций\n\n  \nВ группе максимум 6 человек. \nВАЖНО: На курс допускается только с медицинским образованием
URL:https://new.rofilena.md/event/%d0%b1%d0%b0%d0%b7%d0%be%d0%b2%d0%be%d0%b5-%d0%be%d0%b1%d1%83%d1%87%d0%b5%d0%bd%d0%b8%d0%b5-%d0%bf%d0%be-%d0%bc%d0%b5%d0%b7%d0%be%d1%82%d0%b5%d1%80%d0%b0%d0%bf%d0%b8%d0%b8-%d0%b8-%d0%b1%d0%b8%d0%be-4/
LOCATION:Rofilena\, Strada Vissarion Belinski 25\, Chisinau\, Buiucani\, 2008\, Moldova\, Republic of
ATTACH;FMTTYPE=image/png:https://new.rofilena.md/wp-content/uploads/2024/02/rofilena-22-24-aprilie.png
END:VEVENT
END:VCALENDAR