BEGIN:VCALENDAR
VERSION:2.0
PRODID:-//ROFILENA - ECPv5.3.2//NONSGML v1.0//EN
CALSCALE:GREGORIAN
METHOD:PUBLISH
X-WR-CALNAME:ROFILENA
X-ORIGINAL-URL:https://new.rofilena.md
X-WR-CALDESC:Events for ROFILENA
BEGIN:VTIMEZONE
TZID:Europe/Helsinki
BEGIN:DAYLIGHT
TZOFFSETFROM:+0200
TZOFFSETTO:+0300
TZNAME:EEST
DTSTART:20230326T010000
END:DAYLIGHT
BEGIN:STANDARD
TZOFFSETFROM:+0300
TZOFFSETTO:+0200
TZNAME:EET
DTSTART:20231029T010000
END:STANDARD
END:VTIMEZONE
BEGIN:VEVENT
DTSTART;TZID=Europe/Helsinki:20231114T100000
DTEND;TZID=Europe/Helsinki:20231116T160000
DTSTAMP:20260421T145529
CREATED:20231101T064202Z
LAST-MODIFIED:20231101T064734Z
UID:14962-1699956000-1700150400@new.rofilena.md
SUMMARY:БАЗОВОЕ ОБУЧЕНИЕ ПО МЕЗОТЕРАПИИ И БИОРЕВИТАЛИЗАЦИИ
DESCRIPTION:Обучение мезотерапии и биоревитализации.\n3-х дневный курс.\nПервый этап инъекционных эстетических процедур. \nПрограмма: \n\nМеханизм действия мезопрепаратов. Области и показания\nПротоколы работы с монопрепаратами и коктейлями\nМезотерапия в рабочих программах для лица\, шеи и зоны декольте\nМезотерапия в программах работы области кожи головы\nМезотерапия в программах коррекции фигуры\nМезотерапевтические продукты нового поколения: PDRN\, PN\, экзосомы\n\nПрактическая часть: \n\nКомбинирование монопрепаратов для разных областей лечения\nНавыки введения препарата в эпидермальном\, субдермальном\, дермальном слое кожи\nБиоревитализация\nМезотерапия в программах коррекции фигуры\nМезотерапия в программах лечения алопеций\n\nВ группе максимум 6 человек. \nВАЖНО: На курс допускаются только люди с медицинским образованием
URL:https://new.rofilena.md/event/%d0%b1%d0%b0%d0%b7%d0%be%d0%b2%d0%be%d0%b5-%d0%be%d0%b1%d1%83%d1%87%d0%b5%d0%bd%d0%b8%d0%b5-%d0%bf%d0%be-%d0%bc%d0%b5%d0%b7%d0%be%d1%82%d0%b5%d1%80%d0%b0%d0%bf%d0%b8%d0%b8-%d0%b8-%d0%b1%d0%b8%d0%be-3/
LOCATION:Rofilena\, Strada Vissarion Belinski 25\, Chisinau\, Buiucani\, 2008\, Moldova\, Republic of
ATTACH;FMTTYPE=image/png:https://new.rofilena.md/wp-content/uploads/2023/11/curs-14-16-noiembrie.png
END:VEVENT
END:VCALENDAR